BEGIN:VCALENDAR
PRODID:-//Pixl8//Eventfolio//EN
VERSION:2.0
X-WR-TIMEZONE:Europe/London
CALSCALE:GREGORIAN
METHOD:PUBLISH
CLASS:PUBLIC
BEGIN:VTIMEZONE
TZID:Europe/London
LAST-MODIFIED:20260306T231828Z
TZURL:https://www.tzurl.org/zoneinfo-outlook/Europe/London
X-LIC-LOCATION:Europe/London
BEGIN:DAYLIGHT
TZNAME:BST
TZOFFSETFROM:+0000
TZOFFSETTO:+0100
DTSTART:19700329T010000
RRULE:FREQ=YEARLY;BYMONTH=3;BYDAY=-1SU
END:DAYLIGHT
BEGIN:STANDARD
TZNAME:GMT
TZOFFSETFROM:+0100
TZOFFSETTO:+0000
DTSTART:19701025T020000
RRULE:FREQ=YEARLY;BYMONTH=10;BYDAY=-1SU
END:STANDARD
END:VTIMEZONE
BEGIN:VEVENT
DTSTART;TZID=Europe/London:20211020T160000
DTEND;TZID=Europe/London:20211020T173000
DTSTAMP:20260423T100811Z
UID:{DAB21574-0A15-41D5-88CFD4778B1E0A95}
LOCATION:
SUMMARY:Human Factors Engagement in Oil & Gas
DESCRIPTION:Knowledge and insights about challenges and opportunities in the oil & gas sector.\n
 \n
 Event details: https://ergonomics.org.uk/events-calendar/human-factors-engagement-in-oil-gas.html
PRIORITY:1
END:VEVENT
END:VCALENDAR