BEGIN:VCALENDAR
PRODID:-//Pixl8//Eventfolio//EN
VERSION:2.0
X-WR-TIMEZONE:Europe/London
CALSCALE:GREGORIAN
METHOD:PUBLISH
CLASS:PUBLIC
BEGIN:VTIMEZONE
TZID:Europe/London
LAST-MODIFIED:20260306T231828Z
TZURL:https://www.tzurl.org/zoneinfo-outlook/Europe/London
X-LIC-LOCATION:Europe/London
BEGIN:DAYLIGHT
TZNAME:BST
TZOFFSETFROM:+0000
TZOFFSETTO:+0100
DTSTART:19700329T010000
RRULE:FREQ=YEARLY;BYMONTH=3;BYDAY=-1SU
END:DAYLIGHT
BEGIN:STANDARD
TZNAME:GMT
TZOFFSETFROM:+0100
TZOFFSETTO:+0000
DTSTART:19701025T020000
RRULE:FREQ=YEARLY;BYMONTH=10;BYDAY=-1SU
END:STANDARD
END:VTIMEZONE
BEGIN:VEVENT
DTSTART;TZID=Europe/London:20220302T160000
DTEND;TZID=Europe/London:20220302T173000
DTSTAMP:20260423T101338Z
UID:{F6B4B61C-EE9D-4A8F-8FB8C46926582069}
LOCATION:
SUMMARY:How to write a White Paper on human factors
DESCRIPTION:Here's a framework to help articulate a topic and plan, research, prepare and write a white paper.\n
 \n
 Event details: https://ergonomics.org.uk/events-calendar/how-to-write-a-white-paper-on-human-factors.html
PRIORITY:1
END:VEVENT
END:VCALENDAR