BEGIN:VCALENDAR
PRODID:-//Pixl8//Eventfolio//EN
VERSION:2.0
X-WR-TIMEZONE:Europe/London
CALSCALE:GREGORIAN
METHOD:PUBLISH
CLASS:PUBLIC
BEGIN:VTIMEZONE
TZID:Europe/London
LAST-MODIFIED:20260306T231828Z
TZURL:https://www.tzurl.org/zoneinfo-outlook/Europe/London
X-LIC-LOCATION:Europe/London
BEGIN:DAYLIGHT
TZNAME:BST
TZOFFSETFROM:+0000
TZOFFSETTO:+0100
DTSTART:19700329T010000
RRULE:FREQ=YEARLY;BYMONTH=3;BYDAY=-1SU
END:DAYLIGHT
BEGIN:STANDARD
TZNAME:GMT
TZOFFSETFROM:+0100
TZOFFSETTO:+0000
DTSTART:19701025T020000
RRULE:FREQ=YEARLY;BYMONTH=10;BYDAY=-1SU
END:STANDARD
END:VTIMEZONE
BEGIN:VEVENT
DTSTART;TZID=Europe/London:20210929T160000
DTEND;TZID=Europe/London:20210929T173000
DTSTAMP:20260423T194925Z
UID:{2CCCF67D-12D1-4FDB-A53DB7FF3A2C967A}
LOCATION:
SUMMARY:Climate ergonomics
DESCRIPTION:Perspectives on climate change with a view to how ergonomics can have an impact.\n
 \n
 Event details: https://ergonomics.org.uk/events-calendar/climate-ergonomics.html
PRIORITY:1
END:VEVENT
END:VCALENDAR